BEGIN:VCALENDAR
VERSION:2.0
PRODID:Events Booking
BEGIN:VEVENT
UID:69e6faf423614
SUMMARY:Closed for Private Event
DESCRIPTION:
LOCATION:9038 State Highway 70\, St. Germain\, 54558 WI\, United States
DTSTART:20230217T110000Z
DTEND:20230217T230000Z
DTSTAMP:20230118T141122Z
ORGANIZER:MAILTO:whitetailinnwi@gmail.com
GEO:45.914772;-89.494209
X-APPLE-STRUCTURED-LOCATION;VALUE=URI;X-ADDRESS=9038 State Highway 70\, St.
  Germain\, 54558 WI\, United States;X-APPLE-RADIUS=72;X-TITLE=Whitetail In
 n:45.914772;-89.494209
END:VEVENT
END:VCALENDAR